BEGIN:VCALENDAR
VERSION:2.0
PRODID:-//Aakom-Kiyii Health Services - ECPv6.15.20//NONSGML v1.0//EN
CALSCALE:GREGORIAN
METHOD:PUBLISH
X-ORIGINAL-URL:https://aakomkiyiihealthservices.com
X-WR-CALDESC:Events for Aakom-Kiyii Health Services
REFRESH-INTERVAL;VALUE=DURATION:PT1H
X-Robots-Tag:noindex
X-PUBLISHED-TTL:PT1H
BEGIN:VTIMEZONE
TZID:America/Edmonton
BEGIN:DAYLIGHT
TZOFFSETFROM:-0700
TZOFFSETTO:-0600
TZNAME:MDT
DTSTART:20200308T090000
END:DAYLIGHT
BEGIN:STANDARD
TZOFFSETFROM:-0600
TZOFFSETTO:-0700
TZNAME:MST
DTSTART:20201101T080000
END:STANDARD
BEGIN:DAYLIGHT
TZOFFSETFROM:-0700
TZOFFSETTO:-0600
TZNAME:MDT
DTSTART:20210314T090000
END:DAYLIGHT
BEGIN:STANDARD
TZOFFSETFROM:-0600
TZOFFSETTO:-0700
TZNAME:MST
DTSTART:20211107T080000
END:STANDARD
BEGIN:DAYLIGHT
TZOFFSETFROM:-0700
TZOFFSETTO:-0600
TZNAME:MDT
DTSTART:20220313T090000
END:DAYLIGHT
BEGIN:STANDARD
TZOFFSETFROM:-0600
TZOFFSETTO:-0700
TZNAME:MST
DTSTART:20221106T080000
END:STANDARD
END:VTIMEZONE
BEGIN:VEVENT
DTSTART;TZID=America/Edmonton:20211027T110000
DTEND;TZID=America/Edmonton:20211027T160000
DTSTAMP:20260420T171954
CREATED:20211020T203308Z
LAST-MODIFIED:20211020T203308Z
UID:1951-1635332400-1635350400@aakomkiyiihealthservices.com
SUMMARY:Lethbridge - Vaccination Clinic
DESCRIPTION:
URL:https://aakomkiyiihealthservices.com/event/lethbridge-vaccination-clinic/
LOCATION:Park Place Mall\, Lethbridge\, Alberta\, T0K 0H\, Canada
END:VEVENT
END:VCALENDAR