BEGIN:VCALENDAR
VERSION:2.0
PRODID:-//Aakom-Kiyii Health Services - ECPv6.15.20//NONSGML v1.0//EN
CALSCALE:GREGORIAN
METHOD:PUBLISH
X-WR-CALNAME:Aakom-Kiyii Health Services
X-ORIGINAL-URL:https://aakomkiyiihealthservices.com
X-WR-CALDESC:Events for Aakom-Kiyii Health Services
REFRESH-INTERVAL;VALUE=DURATION:PT1H
X-Robots-Tag:noindex
X-PUBLISHED-TTL:PT1H
BEGIN:VTIMEZONE
TZID:America/Edmonton
BEGIN:DAYLIGHT
TZOFFSETFROM:-0700
TZOFFSETTO:-0600
TZNAME:MDT
DTSTART:20200308T090000
END:DAYLIGHT
BEGIN:STANDARD
TZOFFSETFROM:-0600
TZOFFSETTO:-0700
TZNAME:MST
DTSTART:20201101T080000
END:STANDARD
BEGIN:DAYLIGHT
TZOFFSETFROM:-0700
TZOFFSETTO:-0600
TZNAME:MDT
DTSTART:20210314T090000
END:DAYLIGHT
BEGIN:STANDARD
TZOFFSETFROM:-0600
TZOFFSETTO:-0700
TZNAME:MST
DTSTART:20211107T080000
END:STANDARD
BEGIN:DAYLIGHT
TZOFFSETFROM:-0700
TZOFFSETTO:-0600
TZNAME:MDT
DTSTART:20220313T090000
END:DAYLIGHT
BEGIN:STANDARD
TZOFFSETFROM:-0600
TZOFFSETTO:-0700
TZNAME:MST
DTSTART:20221106T080000
END:STANDARD
END:VTIMEZONE
BEGIN:VEVENT
DTSTART;TZID=America/Edmonton:20210610T093000
DTEND;TZID=America/Edmonton:20210610T150000
DTSTAMP:20260420T222533
CREATED:20210607T154125Z
LAST-MODIFIED:20210607T154125Z
UID:1623-1623317400-1623337200@aakomkiyiihealthservices.com
SUMMARY:Vaccination Clinic
DESCRIPTION:
URL:https://aakomkiyiihealthservices.com/event/vaccination-clinic/
LOCATION:Piikani Conference Center\, Piikani Nation\, Alberta\, Canada
END:VEVENT
BEGIN:VEVENT
DTSTART;TZID=America/Edmonton:20210616T100000
DTEND;TZID=America/Edmonton:20210616T160000
DTSTAMP:20260420T222533
CREATED:20210607T154523Z
LAST-MODIFIED:20210607T154523Z
UID:1635-1623837600-1623859200@aakomkiyiihealthservices.com
SUMMARY:Good Food Bag
DESCRIPTION:
URL:https://aakomkiyiihealthservices.com/event/good-food-bag/
END:VEVENT
BEGIN:VEVENT
DTSTART;TZID=America/Edmonton:20210617T090000
DTEND;TZID=America/Edmonton:20210617T150000
DTSTAMP:20260420T222533
CREATED:20210607T154419Z
LAST-MODIFIED:20210607T154429Z
UID:1629-1623920400-1623942000@aakomkiyiihealthservices.com
SUMMARY:Community Clean-Up
DESCRIPTION:
URL:https://aakomkiyiihealthservices.com/event/community-clean-up/
END:VEVENT
BEGIN:VEVENT
DTSTART;TZID=America/Edmonton:20210617T093000
DTEND;TZID=America/Edmonton:20210617T150000
DTSTAMP:20260420T222533
CREATED:20210614T154457Z
LAST-MODIFIED:20210614T154457Z
UID:1653-1623922200-1623942000@aakomkiyiihealthservices.com
SUMMARY:Vaccination Clinic
DESCRIPTION:
URL:https://aakomkiyiihealthservices.com/event/vaccination-clinic-2/
LOCATION:Piikani Hockey Arena
END:VEVENT
BEGIN:VEVENT
DTSTART;VALUE=DATE:20210621
DTEND;VALUE=DATE:20210622
DTSTAMP:20260420T222533
CREATED:20210616T212649Z
LAST-MODIFIED:20210616T212714Z
UID:1666-1624233600-1624319999@aakomkiyiihealthservices.com
SUMMARY:OFFICE CLOSED
DESCRIPTION:AKHS will be closed today for Aboriginal Day and will re-open tomorrow
URL:https://aakomkiyiihealthservices.com/event/office-closure/
END:VEVENT
BEGIN:VEVENT
DTSTART;TZID=America/Edmonton:20210626T130000
DTEND;TZID=America/Edmonton:20210626T180000
DTSTAMP:20260420T222533
CREATED:20210614T154659Z
LAST-MODIFIED:20210614T160230Z
UID:1659-1624712400-1624730400@aakomkiyiihealthservices.com
SUMMARY:Vaccination Clinic
DESCRIPTION:
URL:https://aakomkiyiihealthservices.com/event/vaccination-clinic-4/
LOCATION:Piikani Hockey Arena
END:VEVENT
END:VCALENDAR