BEGIN:VCALENDAR
VERSION:2.0
PRODID:-//Aakom-Kiyii Health Services - ECPv6.15.20//NONSGML v1.0//EN
CALSCALE:GREGORIAN
METHOD:PUBLISH
X-ORIGINAL-URL:https://aakomkiyiihealthservices.com
X-WR-CALDESC:Events for Aakom-Kiyii Health Services
REFRESH-INTERVAL;VALUE=DURATION:PT1H
X-Robots-Tag:noindex
X-PUBLISHED-TTL:PT1H
BEGIN:VTIMEZONE
TZID:America/Edmonton
BEGIN:DAYLIGHT
TZOFFSETFROM:-0700
TZOFFSETTO:-0600
TZNAME:MDT
DTSTART:20200308T090000
END:DAYLIGHT
BEGIN:STANDARD
TZOFFSETFROM:-0600
TZOFFSETTO:-0700
TZNAME:MST
DTSTART:20201101T080000
END:STANDARD
BEGIN:DAYLIGHT
TZOFFSETFROM:-0700
TZOFFSETTO:-0600
TZNAME:MDT
DTSTART:20210314T090000
END:DAYLIGHT
BEGIN:STANDARD
TZOFFSETFROM:-0600
TZOFFSETTO:-0700
TZNAME:MST
DTSTART:20211107T080000
END:STANDARD
BEGIN:DAYLIGHT
TZOFFSETFROM:-0700
TZOFFSETTO:-0600
TZNAME:MDT
DTSTART:20220313T090000
END:DAYLIGHT
BEGIN:STANDARD
TZOFFSETFROM:-0600
TZOFFSETTO:-0700
TZNAME:MST
DTSTART:20221106T080000
END:STANDARD
END:VTIMEZONE
BEGIN:VEVENT
DTSTART;VALUE=DATE:20210701
DTEND;VALUE=DATE:20210702
DTSTAMP:20260420T204234
CREATED:20210616T212747Z
LAST-MODIFIED:20210616T212747Z
UID:1670-1625097600-1625183999@aakomkiyiihealthservices.com
SUMMARY:OFFICE CLOSED
DESCRIPTION:AKHS will be closed today for Canada Day and will re-open tomorrow
URL:https://aakomkiyiihealthservices.com/event/office-closed/
END:VEVENT
BEGIN:VEVENT
DTSTART;VALUE=DATE:20210706
DTEND;VALUE=DATE:20210710
DTSTAMP:20260420T204234
CREATED:20210607T154758Z
LAST-MODIFIED:20210607T180157Z
UID:1639-1625529600-1625875199@aakomkiyiihealthservices.com
SUMMARY:AKHS Children's Camp
DESCRIPTION:
URL:https://aakomkiyiihealthservices.com/event/akhs-childrens-camp/
END:VEVENT
BEGIN:VEVENT
DTSTART;VALUE=DATE:20210707
DTEND;VALUE=DATE:20210709
DTSTAMP:20260420T204234
CREATED:20210706T151257Z
LAST-MODIFIED:20210706T151257Z
UID:1694-1625616000-1625788799@aakomkiyiihealthservices.com
SUMMARY:Virtual Family Cooking Class
DESCRIPTION:
URL:https://aakomkiyiihealthservices.com/event/virtual-family-cooking-class/
END:VEVENT
BEGIN:VEVENT
DTSTART;TZID=America/Edmonton:20210708T093000
DTEND;TZID=America/Edmonton:20210708T140000
DTSTAMP:20260420T204234
CREATED:20210625T220054Z
LAST-MODIFIED:20210625T220054Z
UID:1674-1625736600-1625752800@aakomkiyiihealthservices.com
SUMMARY:Vaccination Clinic
DESCRIPTION:
URL:https://aakomkiyiihealthservices.com/event/vaccination-clinic-3/
LOCATION:Piikani Hockey Arena
END:VEVENT
BEGIN:VEVENT
DTSTART;TZID=America/Edmonton:20210712T110000
DTEND;TZID=America/Edmonton:20210712T160000
DTSTAMP:20260420T204234
CREATED:20210706T151112Z
LAST-MODIFIED:20210706T151112Z
UID:1690-1626087600-1626105600@aakomkiyiihealthservices.com
SUMMARY:Urban Indigenous COVID-19 Vaccination Clinic
DESCRIPTION:
URL:https://aakomkiyiihealthservices.com/event/urban-indigenous-covid-19-vaccination-clinic/
END:VEVENT
BEGIN:VEVENT
DTSTART;TZID=America/Edmonton:20210714T100000
DTEND;TZID=America/Edmonton:20210714T140000
DTSTAMP:20260420T204234
CREATED:20210706T151556Z
LAST-MODIFIED:20210706T151556Z
UID:1699-1626256800-1626271200@aakomkiyiihealthservices.com
SUMMARY:End of School Bash
DESCRIPTION:
URL:https://aakomkiyiihealthservices.com/event/end-of-school-bash/
LOCATION:Piikani Crowlodge Park
END:VEVENT
BEGIN:VEVENT
DTSTART;TZID=America/Edmonton:20210715T093000
DTEND;TZID=America/Edmonton:20210715T140000
DTSTAMP:20260420T204234
CREATED:20210625T220135Z
LAST-MODIFIED:20210625T220135Z
UID:1678-1626341400-1626357600@aakomkiyiihealthservices.com
SUMMARY:Vaccination Clinic
DESCRIPTION:
URL:https://aakomkiyiihealthservices.com/event/vaccination-clinic-5/
LOCATION:Piikani Hockey Arena
END:VEVENT
BEGIN:VEVENT
DTSTART;TZID=America/Edmonton:20210722T093000
DTEND;TZID=America/Edmonton:20210722T140000
DTSTAMP:20260420T204234
CREATED:20210625T220213Z
LAST-MODIFIED:20210625T220213Z
UID:1681-1626946200-1626962400@aakomkiyiihealthservices.com
SUMMARY:Vaccination Clinic
DESCRIPTION:
URL:https://aakomkiyiihealthservices.com/event/vaccination-clinic-6/
LOCATION:Piikani Hockey Arena
END:VEVENT
BEGIN:VEVENT
DTSTART;TZID=America/Edmonton:20210729T093000
DTEND;TZID=America/Edmonton:20210729T140000
DTSTAMP:20260420T204234
CREATED:20210625T220256Z
LAST-MODIFIED:20210625T220440Z
UID:1684-1627551000-1627567200@aakomkiyiihealthservices.com
SUMMARY:Vaccination Clinic
DESCRIPTION:
URL:https://aakomkiyiihealthservices.com/event/vaccination-clinic-7/
LOCATION:Piikani Hockey Arena
END:VEVENT
END:VCALENDAR