BEGIN:VCALENDAR
VERSION:2.0
PRODID:-//Aakom-Kiyii Health Services - ECPv6.15.20//NONSGML v1.0//EN
CALSCALE:GREGORIAN
METHOD:PUBLISH
X-ORIGINAL-URL:https://aakomkiyiihealthservices.com
X-WR-CALDESC:Events for Aakom-Kiyii Health Services
REFRESH-INTERVAL;VALUE=DURATION:PT1H
X-Robots-Tag:noindex
X-PUBLISHED-TTL:PT1H
BEGIN:VTIMEZONE
TZID:America/Edmonton
BEGIN:DAYLIGHT
TZOFFSETFROM:-0700
TZOFFSETTO:-0600
TZNAME:MDT
DTSTART:20200308T090000
END:DAYLIGHT
BEGIN:STANDARD
TZOFFSETFROM:-0600
TZOFFSETTO:-0700
TZNAME:MST
DTSTART:20201101T080000
END:STANDARD
BEGIN:DAYLIGHT
TZOFFSETFROM:-0700
TZOFFSETTO:-0600
TZNAME:MDT
DTSTART:20210314T090000
END:DAYLIGHT
BEGIN:STANDARD
TZOFFSETFROM:-0600
TZOFFSETTO:-0700
TZNAME:MST
DTSTART:20211107T080000
END:STANDARD
BEGIN:DAYLIGHT
TZOFFSETFROM:-0700
TZOFFSETTO:-0600
TZNAME:MDT
DTSTART:20220313T090000
END:DAYLIGHT
BEGIN:STANDARD
TZOFFSETFROM:-0600
TZOFFSETTO:-0700
TZNAME:MST
DTSTART:20221106T080000
END:STANDARD
END:VTIMEZONE
BEGIN:VEVENT
DTSTART;TZID=America/Edmonton:20211201T140000
DTEND;TZID=America/Edmonton:20211201T180000
DTSTAMP:20260420T121057
CREATED:20211126T214930Z
LAST-MODIFIED:20211126T214930Z
UID:2109-1638367200-1638381600@aakomkiyiihealthservices.com
SUMMARY:Children's COVID Vaccine Clinic
DESCRIPTION:
URL:https://aakomkiyiihealthservices.com/event/childrens-covid-vaccine-clinic/
LOCATION:Piikani Conference Center\, Piikani Nation\, Alberta\, Canada
END:VEVENT
BEGIN:VEVENT
DTSTART;VALUE=DATE:20211202
DTEND;VALUE=DATE:20211203
DTSTAMP:20260420T121057
CREATED:20210809T210212Z
LAST-MODIFIED:20210809T210212Z
UID:1745-1638403200-1638489599@aakomkiyiihealthservices.com
SUMMARY:Good Food Bags - Payment Due
DESCRIPTION:
URL:https://aakomkiyiihealthservices.com/event/good-food-bags-payment-due-5/
END:VEVENT
BEGIN:VEVENT
DTSTART;TZID=America/Edmonton:20211208T093000
DTEND;TZID=America/Edmonton:20211208T140000
DTSTAMP:20260420T121057
CREATED:20211103T165325Z
LAST-MODIFIED:20211126T214724Z
UID:2024-1638955800-1638972000@aakomkiyiihealthservices.com
SUMMARY:Flu/Vaccination Clinic
DESCRIPTION:
URL:https://aakomkiyiihealthservices.com/event/flu-vaccination-clinic-5/
LOCATION:Piikani Conference Center\, Piikani Nation\, Alberta\, Canada
END:VEVENT
BEGIN:VEVENT
DTSTART;TZID=America/Edmonton:20211209T120000
DTEND;TZID=America/Edmonton:20211209T180000
DTSTAMP:20260420T121057
CREATED:20211126T215020Z
LAST-MODIFIED:20211126T215020Z
UID:2113-1639051200-1639072800@aakomkiyiihealthservices.com
SUMMARY:Children's COVID Vaccine Clinic
DESCRIPTION:
URL:https://aakomkiyiihealthservices.com/event/childrens-covid-vaccine-clinic-2/
LOCATION:Piikani Conference Center\, Piikani Nation\, Alberta\, Canada
END:VEVENT
BEGIN:VEVENT
DTSTART;TZID=America/Edmonton:20211210T130000
DTEND;TZID=America/Edmonton:20211210T160000
DTSTAMP:20260420T121057
CREATED:20211126T180343Z
LAST-MODIFIED:20211126T180343Z
UID:2096-1639141200-1639152000@aakomkiyiihealthservices.com
SUMMARY:Winter Festival
DESCRIPTION:
URL:https://aakomkiyiihealthservices.com/event/winter-festival/
LOCATION:Aakom-Kiyii Health Services – Parking Lot\, 1860 15 Avenue\, Brocket\, Alberta\, T0K 0H0\, Canada
END:VEVENT
BEGIN:VEVENT
DTSTART;VALUE=DATE:20211215
DTEND;VALUE=DATE:20211216
DTSTAMP:20260420T121057
CREATED:20210809T210241Z
LAST-MODIFIED:20210809T210241Z
UID:1748-1639526400-1639612799@aakomkiyiihealthservices.com
SUMMARY:Good Food Bags - Pickup Day
DESCRIPTION:
URL:https://aakomkiyiihealthservices.com/event/good-food-bags-pickup-day-5/
END:VEVENT
BEGIN:VEVENT
DTSTART;TZID=America/Edmonton:20211222T093000
DTEND;TZID=America/Edmonton:20211222T140000
DTSTAMP:20260420T121057
CREATED:20211103T165401Z
LAST-MODIFIED:20211126T214755Z
UID:2029-1640165400-1640181600@aakomkiyiihealthservices.com
SUMMARY:Flu/Vaccination Clinic
DESCRIPTION:
URL:https://aakomkiyiihealthservices.com/event/flu-vaccination-clinic-6/
LOCATION:Piikani Conference Center\, Piikani Nation\, Alberta\, Canada
END:VEVENT
END:VCALENDAR