BEGIN:VCALENDAR
VERSION:2.0
PRODID:-//Aakom-Kiyii Health Services - ECPv6.15.20//NONSGML v1.0//EN
CALSCALE:GREGORIAN
METHOD:PUBLISH
X-WR-CALNAME:Aakom-Kiyii Health Services
X-ORIGINAL-URL:https://aakomkiyiihealthservices.com
X-WR-CALDESC:Events for Aakom-Kiyii Health Services
REFRESH-INTERVAL;VALUE=DURATION:PT1H
X-Robots-Tag:noindex
X-PUBLISHED-TTL:PT1H
BEGIN:VTIMEZONE
TZID:America/Edmonton
BEGIN:DAYLIGHT
TZOFFSETFROM:-0700
TZOFFSETTO:-0600
TZNAME:MDT
DTSTART:20210314T090000
END:DAYLIGHT
BEGIN:STANDARD
TZOFFSETFROM:-0600
TZOFFSETTO:-0700
TZNAME:MST
DTSTART:20211107T080000
END:STANDARD
BEGIN:DAYLIGHT
TZOFFSETFROM:-0700
TZOFFSETTO:-0600
TZNAME:MDT
DTSTART:20220313T090000
END:DAYLIGHT
BEGIN:STANDARD
TZOFFSETFROM:-0600
TZOFFSETTO:-0700
TZNAME:MST
DTSTART:20221106T080000
END:STANDARD
BEGIN:DAYLIGHT
TZOFFSETFROM:-0700
TZOFFSETTO:-0600
TZNAME:MDT
DTSTART:20230312T090000
END:DAYLIGHT
BEGIN:STANDARD
TZOFFSETFROM:-0600
TZOFFSETTO:-0700
TZNAME:MST
DTSTART:20231105T080000
END:STANDARD
END:VTIMEZONE
BEGIN:VEVENT
DTSTART;TZID=America/Edmonton:20220202T093000
DTEND;TZID=America/Edmonton:20220202T140000
DTSTAMP:20260420T084641
CREATED:20220202T172635Z
LAST-MODIFIED:20220202T172635Z
UID:2179-1643794200-1643810400@aakomkiyiihealthservices.com
SUMMARY:Vaccine Clinic
DESCRIPTION:
URL:https://aakomkiyiihealthservices.com/event/vaccine-clinic/
LOCATION:Piikani Conference Center\, Piikani Nation\, Alberta\, Canada
END:VEVENT
BEGIN:VEVENT
DTSTART;TZID=America/Edmonton:20220209T093000
DTEND;TZID=America/Edmonton:20220209T143000
DTSTAMP:20260420T084641
CREATED:20220202T172935Z
LAST-MODIFIED:20220202T172935Z
UID:2184-1644399000-1644417000@aakomkiyiihealthservices.com
SUMMARY:COVID Vaccine Clinic
DESCRIPTION:
URL:https://aakomkiyiihealthservices.com/event/covid-vaccine-clinic/
LOCATION:Piikani Conference Center\, Piikani Nation\, Alberta\, Canada
END:VEVENT
BEGIN:VEVENT
DTSTART;TZID=America/Edmonton:20220211T173000
DTEND;TZID=America/Edmonton:20220211T210000
DTSTAMP:20260420T084641
CREATED:20220203T175413Z
LAST-MODIFIED:20220203T175523Z
UID:2196-1644600600-1644613200@aakomkiyiihealthservices.com
SUMMARY:Drive-In Movie Night
DESCRIPTION:
URL:https://aakomkiyiihealthservices.com/event/drive-in-movie-night-2/
LOCATION:Piikani Community Hall
END:VEVENT
BEGIN:VEVENT
DTSTART;TZID=America/Edmonton:20220218T130000
DTEND;TZID=America/Edmonton:20220218T170000
DTSTAMP:20260420T084641
CREATED:20220202T173724Z
LAST-MODIFIED:20220202T173724Z
UID:2190-1645189200-1645203600@aakomkiyiihealthservices.com
SUMMARY:Off Reserve COVID Vaccine Clinic
DESCRIPTION:
URL:https://aakomkiyiihealthservices.com/event/off-reserve-covid-vaccine-clinic/
LOCATION:Park Place Mall\, Lethbridge\, Alberta\, T0K 0H\, Canada
END:VEVENT
BEGIN:VEVENT
DTSTART;TZID=America/Edmonton:20220222T110000
DTEND;TZID=America/Edmonton:20220222T140000
DTSTAMP:20260420T084641
CREATED:20220210T164559Z
LAST-MODIFIED:20220210T164559Z
UID:2204-1645527600-1645538400@aakomkiyiihealthservices.com
SUMMARY:Pink Shirt Day Party
DESCRIPTION:
URL:https://aakomkiyiihealthservices.com/event/pink-shirt-day-party/
LOCATION:Hand Game Building
END:VEVENT
BEGIN:VEVENT
DTSTART;TZID=America/Edmonton:20220223T093000
DTEND;TZID=America/Edmonton:20220223T143000
DTSTAMP:20260420T084641
CREATED:20220202T173156Z
LAST-MODIFIED:20220202T173156Z
UID:2187-1645608600-1645626600@aakomkiyiihealthservices.com
SUMMARY:COVID Vaccine Clinic
DESCRIPTION:
URL:https://aakomkiyiihealthservices.com/event/covid-vaccine-clinic-2/
LOCATION:Piikani Conference Center\, Piikani Nation\, Alberta\, Canada
END:VEVENT
BEGIN:VEVENT
DTSTART;TZID=America/Edmonton:20220224T143000
DTEND;TZID=America/Edmonton:20220224T163000
DTSTAMP:20260420T084641
CREATED:20220221T183039Z
LAST-MODIFIED:20220221T183039Z
UID:2230-1645713000-1645720200@aakomkiyiihealthservices.com
SUMMARY:Office Closure
DESCRIPTION:
URL:https://aakomkiyiihealthservices.com/event/office-closure-8/
END:VEVENT
BEGIN:VEVENT
DTSTART;TZID=America/Edmonton:20220225T083000
DTEND;TZID=America/Edmonton:20220225T163000
DTSTAMP:20260420T084641
CREATED:20220221T182905Z
LAST-MODIFIED:20220221T182936Z
UID:2226-1645777800-1645806600@aakomkiyiihealthservices.com
SUMMARY:Office Closure
DESCRIPTION:
URL:https://aakomkiyiihealthservices.com/event/office-closure-7/
END:VEVENT
BEGIN:VEVENT
DTSTART;TZID=America/Edmonton:20220228T090000
DTEND;TZID=America/Edmonton:20220228T150000
DTSTAMP:20260420T084641
CREATED:20220221T210207Z
LAST-MODIFIED:20220221T210207Z
UID:2233-1646038800-1646060400@aakomkiyiihealthservices.com
SUMMARY:First Aid Training
DESCRIPTION:
URL:https://aakomkiyiihealthservices.com/event/first-aid-training/
LOCATION:PRDL Building
END:VEVENT
END:VCALENDAR