BEGIN:VCALENDAR
VERSION:2.0
PRODID:-//Aakom-Kiyii Health Services - ECPv6.15.20//NONSGML v1.0//EN
CALSCALE:GREGORIAN
METHOD:PUBLISH
X-WR-CALNAME:Aakom-Kiyii Health Services
X-ORIGINAL-URL:https://aakomkiyiihealthservices.com
X-WR-CALDESC:Events for Aakom-Kiyii Health Services
REFRESH-INTERVAL;VALUE=DURATION:PT1H
X-Robots-Tag:noindex
X-PUBLISHED-TTL:PT1H
BEGIN:VTIMEZONE
TZID:America/Edmonton
BEGIN:DAYLIGHT
TZOFFSETFROM:-0700
TZOFFSETTO:-0600
TZNAME:MDT
DTSTART:20210314T090000
END:DAYLIGHT
BEGIN:STANDARD
TZOFFSETFROM:-0600
TZOFFSETTO:-0700
TZNAME:MST
DTSTART:20211107T080000
END:STANDARD
BEGIN:DAYLIGHT
TZOFFSETFROM:-0700
TZOFFSETTO:-0600
TZNAME:MDT
DTSTART:20220313T090000
END:DAYLIGHT
BEGIN:STANDARD
TZOFFSETFROM:-0600
TZOFFSETTO:-0700
TZNAME:MST
DTSTART:20221106T080000
END:STANDARD
BEGIN:DAYLIGHT
TZOFFSETFROM:-0700
TZOFFSETTO:-0600
TZNAME:MDT
DTSTART:20230312T090000
END:DAYLIGHT
BEGIN:STANDARD
TZOFFSETFROM:-0600
TZOFFSETTO:-0700
TZNAME:MST
DTSTART:20231105T080000
END:STANDARD
END:VTIMEZONE
BEGIN:VEVENT
DTSTART;TZID=America/Edmonton:20220404T120000
DTEND;TZID=America/Edmonton:20220404T130000
DTSTAMP:20260420T053107
CREATED:20220406T201549Z
LAST-MODIFIED:20220406T201619Z
UID:2362-1649073600-1649077200@aakomkiyiihealthservices.com
SUMMARY:Walking Club
DESCRIPTION:
URL:https://aakomkiyiihealthservices.com/event/walking-club-2/
LOCATION:Piikani Crowlodge Park
END:VEVENT
BEGIN:VEVENT
DTSTART;TZID=America/Edmonton:20220406T120000
DTEND;TZID=America/Edmonton:20220406T130000
DTSTAMP:20260420T053107
CREATED:20220406T201435Z
LAST-MODIFIED:20220406T201449Z
UID:2358-1649246400-1649250000@aakomkiyiihealthservices.com
SUMMARY:Walking Club
DESCRIPTION:
URL:https://aakomkiyiihealthservices.com/event/walking-club/
LOCATION:Piikani Crowlodge Park
END:VEVENT
BEGIN:VEVENT
DTSTART;TZID=America/Edmonton:20220408T120000
DTEND;TZID=America/Edmonton:20220408T130000
DTSTAMP:20260420T053107
CREATED:20220406T201712Z
LAST-MODIFIED:20220406T201712Z
UID:2365-1649419200-1649422800@aakomkiyiihealthservices.com
SUMMARY:Walking Club
DESCRIPTION:
URL:https://aakomkiyiihealthservices.com/event/walking-club-3/
LOCATION:Piikani Crowlodge Park
END:VEVENT
BEGIN:VEVENT
DTSTART;TZID=America/Edmonton:20220411T120000
DTEND;TZID=America/Edmonton:20220411T130000
DTSTAMP:20260420T053107
CREATED:20220406T201805Z
LAST-MODIFIED:20220406T201805Z
UID:2368-1649678400-1649682000@aakomkiyiihealthservices.com
SUMMARY:Walking Club
DESCRIPTION:
URL:https://aakomkiyiihealthservices.com/event/walking-club-4/
LOCATION:Piikani Crowlodge Park
END:VEVENT
BEGIN:VEVENT
DTSTART;TZID=America/Edmonton:20220413T120000
DTEND;TZID=America/Edmonton:20220413T130000
DTSTAMP:20260420T053107
CREATED:20220406T202102Z
LAST-MODIFIED:20220406T202102Z
UID:2371-1649851200-1649854800@aakomkiyiihealthservices.com
SUMMARY:Walking Club
DESCRIPTION:
URL:https://aakomkiyiihealthservices.com/event/walking-club-5/
LOCATION:Piikani Crowlodge Park
END:VEVENT
BEGIN:VEVENT
DTSTART;TZID=America/Edmonton:20220415T120000
DTEND;TZID=America/Edmonton:20220415T130000
DTSTAMP:20260420T053107
CREATED:20220406T202213Z
LAST-MODIFIED:20220406T202213Z
UID:2374-1650024000-1650027600@aakomkiyiihealthservices.com
SUMMARY:Walking Club
DESCRIPTION:
URL:https://aakomkiyiihealthservices.com/event/walking-club-6/
LOCATION:Piikani Crowlodge Park
END:VEVENT
BEGIN:VEVENT
DTSTART;TZID=America/Edmonton:20220418T120000
DTEND;TZID=America/Edmonton:20220418T130000
DTSTAMP:20260420T053107
CREATED:20220406T202255Z
LAST-MODIFIED:20220406T202255Z
UID:2377-1650283200-1650286800@aakomkiyiihealthservices.com
SUMMARY:Walking Club
DESCRIPTION:
URL:https://aakomkiyiihealthservices.com/event/walking-club-7/
LOCATION:Piikani Crowlodge Park
END:VEVENT
BEGIN:VEVENT
DTSTART;TZID=America/Edmonton:20220420T120000
DTEND;TZID=America/Edmonton:20220420T130000
DTSTAMP:20260420T053107
CREATED:20220406T202340Z
LAST-MODIFIED:20220406T202340Z
UID:2380-1650456000-1650459600@aakomkiyiihealthservices.com
SUMMARY:Walking Club
DESCRIPTION:
URL:https://aakomkiyiihealthservices.com/event/walking-club-8/
LOCATION:Piikani Crowlodge Park
END:VEVENT
BEGIN:VEVENT
DTSTART;TZID=America/Edmonton:20220420T133000
DTEND;TZID=America/Edmonton:20220420T160000
DTSTAMP:20260420T053107
CREATED:20220406T201013Z
LAST-MODIFIED:20220406T201013Z
UID:2353-1650461400-1650470400@aakomkiyiihealthservices.com
SUMMARY:Starting Solids Class
DESCRIPTION:
URL:https://aakomkiyiihealthservices.com/event/starting-solids-class/
END:VEVENT
BEGIN:VEVENT
DTSTART;TZID=America/Edmonton:20220422T120000
DTEND;TZID=America/Edmonton:20220422T130000
DTSTAMP:20260420T053107
CREATED:20220406T202421Z
LAST-MODIFIED:20220406T202421Z
UID:2383-1650628800-1650632400@aakomkiyiihealthservices.com
SUMMARY:Walking Club
DESCRIPTION:
URL:https://aakomkiyiihealthservices.com/event/walking-club-9/
LOCATION:Piikani Crowlodge Park
END:VEVENT
BEGIN:VEVENT
DTSTART;TZID=America/Edmonton:20220425T120000
DTEND;TZID=America/Edmonton:20220425T130000
DTSTAMP:20260420T053107
CREATED:20220406T202517Z
LAST-MODIFIED:20220406T202517Z
UID:2386-1650888000-1650891600@aakomkiyiihealthservices.com
SUMMARY:Walking Club
DESCRIPTION:
URL:https://aakomkiyiihealthservices.com/event/walking-club-10/
LOCATION:Piikani Crowlodge Park
END:VEVENT
BEGIN:VEVENT
DTSTART;TZID=America/Edmonton:20220427T120000
DTEND;TZID=America/Edmonton:20220427T130000
DTSTAMP:20260420T053107
CREATED:20220406T202555Z
LAST-MODIFIED:20220406T202555Z
UID:2389-1651060800-1651064400@aakomkiyiihealthservices.com
SUMMARY:Walking Club
DESCRIPTION:
URL:https://aakomkiyiihealthservices.com/event/walking-club-11/
LOCATION:Piikani Crowlodge Park
END:VEVENT
BEGIN:VEVENT
DTSTART;TZID=America/Edmonton:20220428T133000
DTEND;TZID=America/Edmonton:20220428T153000
DTSTAMP:20260420T053107
CREATED:20220421T210720Z
LAST-MODIFIED:20220421T210720Z
UID:2437-1651152600-1651159800@aakomkiyiihealthservices.com
SUMMARY:Granola Bar Cooking Kits
DESCRIPTION:
URL:https://aakomkiyiihealthservices.com/event/granola-bar-cooking-kits/
LOCATION:Aakom-Kiyii Health Services
END:VEVENT
BEGIN:VEVENT
DTSTART;TZID=America/Edmonton:20220429T120000
DTEND;TZID=America/Edmonton:20220429T130000
DTSTAMP:20260420T053107
CREATED:20220406T202652Z
LAST-MODIFIED:20220406T202652Z
UID:2392-1651233600-1651237200@aakomkiyiihealthservices.com
SUMMARY:Walking Club
DESCRIPTION:
URL:https://aakomkiyiihealthservices.com/event/walking-club-12/
LOCATION:Piikani Crowlodge Park
END:VEVENT
END:VCALENDAR